BEGIN:VCALENDAR
VERSION:2.0
PRODID:-//sTREsi sTREs - ECPv6.0.13.1//NONSGML v1.0//EN
CALSCALE:GREGORIAN
METHOD:PUBLISH
X-WR-CALNAME:sTREsi sTREs
X-ORIGINAL-URL:http://stresistres.si
X-WR-CALDESC:Events for sTREsi sTREs
REFRESH-INTERVAL;VALUE=DURATION:PT1H
X-Robots-Tag:noindex
X-PUBLISHED-TTL:PT1H
BEGIN:VTIMEZONE
TZID:UTC
BEGIN:STANDARD
TZOFFSETFROM:+0000
TZOFFSETTO:+0000
TZNAME:UTC
DTSTART:20180101T000000
END:STANDARD
END:VTIMEZONE
BEGIN:VEVENT
DTSTART;TZID=UTC:20180303T090000
DTEND;TZID=UTC:20180303T170000
DTSTAMP:20260420T014211
CREATED:20180129T081005Z
LAST-MODIFIED:20180130T114453Z
UID:712-1520067600-1520096400@stresistres.si
SUMMARY:Vikend intenziv s sTREsisTREs
DESCRIPTION:Krepimo sTREsoodpornost !\nVikend intenziv s sTResisTREs \nv soboto 3.marec 2018 od 9:00 – 17:00\nv nedeljo 4.marec 2018 od 9:00 – 17:00\nPrijave so obvezne. Prijavite se TUKAJ  \n  \nV tem času spoznaš odzive svojega telesa v stresnih situacijah. Naučiš se jih opazovati in jih uspešno regulirati.  \nBrez težav se boš uspešno in samozavestno soočal-a z vsemi izzivi\, ki jih prinaša vsak dan\, v službi in doma.  \nSOBOTA: \n9:00 – 12:00 – uvodna sTREsisTREs delavnica (teoretični in praktični del) \n12:00 – 13:30 – odmor za kosilo \n13:30 – 17:00 – nadaljevalna sTREsisTREs delavnica (teoretični in praktični del) \nNEDELJA: \n9:00 – 13:30 – pogovor o izkušnji\, čustvena sTREsoodpornost \n12:00 – 13:30 – odmor za kosilo \n13:30 – 17:00 – praktični del čustvena sTREsoodpornost \n  \nPrijavi se TUKAJ in takoj prihrani 40 € .\nCena paketa (plačaš po predračunu) je 170\,00 €\n 
URL:http://stresistres.si/dogodek/stresistres-intenzivni-vikend/
LOCATION:Trgovina Korotan Kranj\, Struževo 20\, Kranj\, 4000\, Slovenija
ORGANIZER;CN="sTREsisTREs":MAILTO:mateja@stresistres.si
END:VEVENT
END:VCALENDAR